BEGIN:VCALENDAR
VERSION:2.0
PRODID:-//Crop Insurance Keeps America Growing - ECPv5.7.1//NONSGML v1.0//EN
CALSCALE:GREGORIAN
METHOD:PUBLISH
X-WR-CALNAME:Crop Insurance Keeps America Growing
X-ORIGINAL-URL:https://cropinsuranceinamerica.org
X-WR-CALDESC:Events for Crop Insurance Keeps America Growing
BEGIN:VTIMEZONE
TZID:America/New_York
BEGIN:DAYLIGHT
TZOFFSETFROM:-0500
TZOFFSETTO:-0400
TZNAME:EDT
DTSTART:20190310T070000
END:DAYLIGHT
BEGIN:STANDARD
TZOFFSETFROM:-0400
TZOFFSETTO:-0500
TZNAME:EST
DTSTART:20191103T060000
END:STANDARD
END:VTIMEZONE
BEGIN:VEVENT
DTSTART;TZID=America/New_York:20190108T093000
DTEND;TZID=America/New_York:20190108T110000
DTSTAMP:20210704T174010
CREATED:20181205T213945Z
LAST-MODIFIED:20200827T191959Z
UID:10212-1546939800-1546945200@cropinsuranceinamerica.org
SUMMARY:Crop Insurance Basics
DESCRIPTION:Learn about crop insurance risk management tools and important dates and deadlines to make an informed purchase decision. Discover how the Federal government works with insurance providers to bring you current information on crop products and how to engage the services of a crop insurance agent. \nWEBINAR RECORDING \n \nFACT SHEET
URL:https://cropinsuranceinamerica.org/webinar/crop-insurance-basics/
END:VEVENT
END:VCALENDAR